BEGIN:VCALENDAR
VERSION:2.0
PRODID:-//Brookfield Curling Club - ECPv6.15.20//NONSGML v1.0//EN
CALSCALE:GREGORIAN
METHOD:PUBLISH
X-ORIGINAL-URL:https://brookfieldcurlingclub.com
X-WR-CALDESC:Events for Brookfield Curling Club
REFRESH-INTERVAL;VALUE=DURATION:PT1H
X-Robots-Tag:noindex
X-PUBLISHED-TTL:PT1H
BEGIN:VTIMEZONE
TZID:America/Halifax
BEGIN:DAYLIGHT
TZOFFSETFROM:-0400
TZOFFSETTO:-0300
TZNAME:ADT
DTSTART:20250309T060000
END:DAYLIGHT
BEGIN:STANDARD
TZOFFSETFROM:-0300
TZOFFSETTO:-0400
TZNAME:AST
DTSTART:20251102T050000
END:STANDARD
BEGIN:DAYLIGHT
TZOFFSETFROM:-0400
TZOFFSETTO:-0300
TZNAME:ADT
DTSTART:20260308T060000
END:DAYLIGHT
BEGIN:STANDARD
TZOFFSETFROM:-0300
TZOFFSETTO:-0400
TZNAME:AST
DTSTART:20261101T050000
END:STANDARD
BEGIN:DAYLIGHT
TZOFFSETFROM:-0400
TZOFFSETTO:-0300
TZNAME:ADT
DTSTART:20270314T060000
END:DAYLIGHT
BEGIN:STANDARD
TZOFFSETFROM:-0300
TZOFFSETTO:-0400
TZNAME:AST
DTSTART:20271107T050000
END:STANDARD
END:VTIMEZONE
BEGIN:VEVENT
DTSTART;TZID=America/Halifax:20260221T180000
DTEND;TZID=America/Halifax:20260221T220000
DTSTAMP:20260420T203355
CREATED:20260211T142453Z
LAST-MODIFIED:20260211T142453Z
UID:8472-1771696800-1771711200@brookfieldcurlingclub.com
SUMMARY:Trivia Night 2026
DESCRIPTION:Gather your smartest friends and join us for a fantastic evening of trivia\, laughs\, and friendly competition! Whether you’re a history buff or a pop-culture pro\, it’s the perfect excuse for a night out while supporting our club’s fundraising efforts. \n\n\nTeams: 2–6 players. \n\n\nCost: Only $15 per player. \n\n\nDoors Open: 6:00 PM (Get your table early!) \n\n\nTrivia: 7:00 PM – 10:00 PM. \n\n\nWe’ll have a cash bar stocked with refreshing drinks and snacks all night long\, plus a CASH PRIZE for the winning team! \nYou can send an email to brookfieldcurlingclub@gmail.com to sign up or click here to fill out a sign-up form. We hope to see you there!
URL:https://brookfieldcurlingclub.com/event/trivia-night-2026/
LOCATION:Brookfield Curling Club\, 55 Carter Road\, Brookfield\, Nova Scotia\, B0N 1C0\, Canada
CATEGORIES:Club Events
ATTACH;FMTTYPE=image/gif:https://brookfieldcurlingclub.com/wp-content/uploads/2026/02/trivia-night-poster-400w.gif
ORGANIZER;CN="Andy Kenny":MAILTO:brookfieldcurlingclub@gmail.com
END:VEVENT
END:VCALENDAR