BEGIN:VCALENDAR
VERSION:2.0
PRODID:-//Brookfield Curling Club - ECPv6.15.20//NONSGML v1.0//EN
CALSCALE:GREGORIAN
METHOD:PUBLISH
X-ORIGINAL-URL:https://brookfieldcurlingclub.com
X-WR-CALDESC:Events for Brookfield Curling Club
REFRESH-INTERVAL;VALUE=DURATION:PT1H
X-Robots-Tag:noindex
X-PUBLISHED-TTL:PT1H
BEGIN:VTIMEZONE
TZID:America/Halifax
BEGIN:DAYLIGHT
TZOFFSETFROM:-0400
TZOFFSETTO:-0300
TZNAME:ADT
DTSTART:20250309T060000
END:DAYLIGHT
BEGIN:STANDARD
TZOFFSETFROM:-0300
TZOFFSETTO:-0400
TZNAME:AST
DTSTART:20251102T050000
END:STANDARD
BEGIN:DAYLIGHT
TZOFFSETFROM:-0400
TZOFFSETTO:-0300
TZNAME:ADT
DTSTART:20260308T060000
END:DAYLIGHT
BEGIN:STANDARD
TZOFFSETFROM:-0300
TZOFFSETTO:-0400
TZNAME:AST
DTSTART:20261101T050000
END:STANDARD
BEGIN:DAYLIGHT
TZOFFSETFROM:-0400
TZOFFSETTO:-0300
TZNAME:ADT
DTSTART:20270314T060000
END:DAYLIGHT
BEGIN:STANDARD
TZOFFSETFROM:-0300
TZOFFSETTO:-0400
TZNAME:AST
DTSTART:20271107T050000
END:STANDARD
END:VTIMEZONE
BEGIN:VEVENT
DTSTART;VALUE=DATE:20260119
DTEND;VALUE=DATE:20260124
DTSTAMP:20260420T201016
CREATED:20260105T020210Z
LAST-MODIFIED:20260105T020254Z
UID:8467-1768780800-1769212799@brookfieldcurlingclub.com
SUMMARY:Favorite Jersey Week - Jan 19th to 23rd
DESCRIPTION:WEAR YOUR FAVORITE JERSEY WEEK! \nJoin the fun and show your Club spirit the week of January 18th to 24th! Or dust off your best Classic Curling Attire—it will fit right in! \n \nAfter your game\, come share your best “tall tales” in the 9th End Lounge!
URL:https://brookfieldcurlingclub.com/event/favorite-jersey-week-jan-19th-to-23rd/
LOCATION:Brookfield Curling Club\, 55 Carter Road\, Brookfield\, Nova Scotia\, B0N 1C0\, Canada
CATEGORIES:Club Events
ORGANIZER;CN="Andy Kenny":MAILTO:brookfieldcurlingclub@gmail.com
END:VEVENT
BEGIN:VEVENT
DTSTART;TZID=America/Halifax:20260207T083000
DTEND;TZID=America/Halifax:20260207T190000
DTSTAMP:20260420T201016
CREATED:20260105T015252Z
LAST-MODIFIED:20260105T015252Z
UID:8464-1770453000-1770490800@brookfieldcurlingclub.com
SUMMARY:Annual Club Bonspiel
DESCRIPTION:The Club will be holding its annual Club Bonspiel on Saturday Feb 7\, 2026. Current league teams (Monday-Tuesday-Thursday) are encouraged to sign up for this important club fundraiser\, but this event is open to all – teams from other clubs across the province are welcome to attend! \nThis is a 1 day bonspiel with 2 divisions\, one with an early start\, followed by the other\, alternating all day.\nWhen: Saturday Feb 8 2025 \nDetails: Entry Fee $120 – Winners Prize – Guaranteed 3 games \nSign up at the Club or call Andy (902) 986-9025  or Andrew at (902) 986-1107 or email us at brookfieldcurlingclub@gmail.com
URL:https://brookfieldcurlingclub.com/event/annual-club-bonspiel/
LOCATION:Brookfield Curling Club\, 55 Carter Road\, Brookfield\, Nova Scotia\, B0N 1C0\, Canada
CATEGORIES:Bonspiel,Club Bonspeils,Club Events
ORGANIZER;CN="Andy Kenny":MAILTO:brookfieldcurlingclub@gmail.com
END:VEVENT
BEGIN:VEVENT
DTSTART;TZID=America/Halifax:20260221T180000
DTEND;TZID=America/Halifax:20260221T220000
DTSTAMP:20260420T201016
CREATED:20260211T142453Z
LAST-MODIFIED:20260211T142453Z
UID:8472-1771696800-1771711200@brookfieldcurlingclub.com
SUMMARY:Trivia Night 2026
DESCRIPTION:Gather your smartest friends and join us for a fantastic evening of trivia\, laughs\, and friendly competition! Whether you’re a history buff or a pop-culture pro\, it’s the perfect excuse for a night out while supporting our club’s fundraising efforts. \n\n\nTeams: 2–6 players. \n\n\nCost: Only $15 per player. \n\n\nDoors Open: 6:00 PM (Get your table early!) \n\n\nTrivia: 7:00 PM – 10:00 PM. \n\n\nWe’ll have a cash bar stocked with refreshing drinks and snacks all night long\, plus a CASH PRIZE for the winning team! \nYou can send an email to brookfieldcurlingclub@gmail.com to sign up or click here to fill out a sign-up form. We hope to see you there!
URL:https://brookfieldcurlingclub.com/event/trivia-night-2026/
LOCATION:Brookfield Curling Club\, 55 Carter Road\, Brookfield\, Nova Scotia\, B0N 1C0\, Canada
CATEGORIES:Club Events
ATTACH;FMTTYPE=image/gif:https://brookfieldcurlingclub.com/wp-content/uploads/2026/02/trivia-night-poster-400w.gif
ORGANIZER;CN="Andy Kenny":MAILTO:brookfieldcurlingclub@gmail.com
END:VEVENT
END:VCALENDAR